BEGIN:VCALENDAR
VERSION:2.0
PRODID:-//Society for Shamanic Practice - ECPv6.15.20//NONSGML v1.0//EN
CALSCALE:GREGORIAN
METHOD:PUBLISH
X-WR-CALNAME:Society for Shamanic Practice
X-ORIGINAL-URL:https://shamanicpractice.org
X-WR-CALDESC:Events for Society for Shamanic Practice
REFRESH-INTERVAL;VALUE=DURATION:PT1H
X-Robots-Tag:noindex
X-PUBLISHED-TTL:PT1H
BEGIN:VTIMEZONE
TZID:America/Denver
BEGIN:DAYLIGHT
TZOFFSETFROM:-0700
TZOFFSETTO:-0600
TZNAME:MDT
DTSTART:20250309T090000
END:DAYLIGHT
BEGIN:STANDARD
TZOFFSETFROM:-0600
TZOFFSETTO:-0700
TZNAME:MST
DTSTART:20251102T080000
END:STANDARD
BEGIN:DAYLIGHT
TZOFFSETFROM:-0700
TZOFFSETTO:-0600
TZNAME:MDT
DTSTART:20260308T090000
END:DAYLIGHT
BEGIN:STANDARD
TZOFFSETFROM:-0600
TZOFFSETTO:-0700
TZNAME:MST
DTSTART:20261101T080000
END:STANDARD
BEGIN:DAYLIGHT
TZOFFSETFROM:-0700
TZOFFSETTO:-0600
TZNAME:MDT
DTSTART:20270314T090000
END:DAYLIGHT
BEGIN:STANDARD
TZOFFSETFROM:-0600
TZOFFSETTO:-0700
TZNAME:MST
DTSTART:20271107T080000
END:STANDARD
END:VTIMEZONE
BEGIN:VEVENT
DTSTART;TZID=America/Denver:20260427T083000
DTEND;TZID=America/Denver:20260427T091500
DTSTAMP:20260424T020652
CREATED:20260225T154404Z
LAST-MODIFIED:20260420T213627Z
UID:10013535-1777278600-1777281300@shamanicpractice.org
SUMMARY:Weekly Wisdoms with Lena
DESCRIPTION:Join Lena for Weekly Wisdoms on Monday at 8:30AM Mountain Time. 45 minutes of wisdoms\, practices\, suggestions and live Q&A designed to set up your week in the best way possible. Join live or recorded for 48 hours afterward. \nLena will present the themes for the week\, introduce the animal medicine ally that shows up and talk through her altar for the week\, with practices and suggestions. Then\, 15 minutes for live Q&A concludes the webinar. Very helpful support for navigating the times.
URL:https://shamanicpractice.org/member-events/weekly-wisdoms-with-lena-28/2026-04-27/
LOCATION:Online
CATEGORIES:Online Events
ATTACH;FMTTYPE=image/jpeg:https://cdn1.shamanicpractice.org/wp-content/uploads/2026/02/24111909/Coffee-With-Lena-smal-scaled.jpeg
ORGANIZER;CN="The Power Path":MAILTO:admin@thepowerpath.com
END:VEVENT
BEGIN:VEVENT
DTSTART;TZID=America/Denver:20260504T083000
DTEND;TZID=America/Denver:20260504T091500
DTSTAMP:20260424T020652
CREATED:20260225T154404Z
LAST-MODIFIED:20260420T213627Z
UID:10013582-1777883400-1777886100@shamanicpractice.org
SUMMARY:Weekly Wisdoms with Lena
DESCRIPTION:Join Lena for Weekly Wisdoms on Monday at 8:30AM Mountain Time. 45 minutes of wisdoms\, practices\, suggestions and live Q&A designed to set up your week in the best way possible. Join live or recorded for 48 hours afterward. \nLena will present the themes for the week\, introduce the animal medicine ally that shows up and talk through her altar for the week\, with practices and suggestions. Then\, 15 minutes for live Q&A concludes the webinar. Very helpful support for navigating the times.
URL:https://shamanicpractice.org/member-events/weekly-wisdoms-with-lena-28/2026-05-04/
LOCATION:Online
CATEGORIES:Online Events
ATTACH;FMTTYPE=image/jpeg:https://cdn1.shamanicpractice.org/wp-content/uploads/2026/02/24111909/Coffee-With-Lena-smal-scaled.jpeg
ORGANIZER;CN="The Power Path":MAILTO:admin@thepowerpath.com
END:VEVENT
BEGIN:VEVENT
DTSTART;TZID=America/Denver:20260518T083000
DTEND;TZID=America/Denver:20260518T091500
DTSTAMP:20260424T020652
CREATED:20260225T154404Z
LAST-MODIFIED:20260420T213627Z
UID:10013583-1779093000-1779095700@shamanicpractice.org
SUMMARY:Weekly Wisdoms with Lena
DESCRIPTION:Join Lena for Weekly Wisdoms on Monday at 8:30AM Mountain Time. 45 minutes of wisdoms\, practices\, suggestions and live Q&A designed to set up your week in the best way possible. Join live or recorded for 48 hours afterward. \nLena will present the themes for the week\, introduce the animal medicine ally that shows up and talk through her altar for the week\, with practices and suggestions. Then\, 15 minutes for live Q&A concludes the webinar. Very helpful support for navigating the times.
URL:https://shamanicpractice.org/member-events/weekly-wisdoms-with-lena-28/2026-05-18/
LOCATION:Online
CATEGORIES:Online Events
ATTACH;FMTTYPE=image/jpeg:https://cdn1.shamanicpractice.org/wp-content/uploads/2026/02/24111909/Coffee-With-Lena-smal-scaled.jpeg
ORGANIZER;CN="The Power Path":MAILTO:admin@thepowerpath.com
END:VEVENT
END:VCALENDAR